BEGIN:VCALENDAR
VERSION:2.0
PRODID:-//Faribault Golf Club - ECPv6.15.18//NONSGML v1.0//EN
CALSCALE:GREGORIAN
METHOD:PUBLISH
X-WR-CALNAME:Faribault Golf Club
X-ORIGINAL-URL:https://www.faribaultgolf.com
X-WR-CALDESC:Events for Faribault Golf Club
REFRESH-INTERVAL;VALUE=DURATION:PT1H
X-Robots-Tag:noindex
X-PUBLISHED-TTL:PT1H
BEGIN:VTIMEZONE
TZID:America/Chicago
BEGIN:DAYLIGHT
TZOFFSETFROM:-0600
TZOFFSETTO:-0500
TZNAME:CDT
DTSTART:20240310T080000
END:DAYLIGHT
BEGIN:STANDARD
TZOFFSETFROM:-0500
TZOFFSETTO:-0600
TZNAME:CST
DTSTART:20241103T070000
END:STANDARD
BEGIN:DAYLIGHT
TZOFFSETFROM:-0600
TZOFFSETTO:-0500
TZNAME:CDT
DTSTART:20250309T080000
END:DAYLIGHT
BEGIN:STANDARD
TZOFFSETFROM:-0500
TZOFFSETTO:-0600
TZNAME:CST
DTSTART:20251102T070000
END:STANDARD
BEGIN:DAYLIGHT
TZOFFSETFROM:-0600
TZOFFSETTO:-0500
TZNAME:CDT
DTSTART:20260308T080000
END:DAYLIGHT
BEGIN:STANDARD
TZOFFSETFROM:-0500
TZOFFSETTO:-0600
TZNAME:CST
DTSTART:20261101T070000
END:STANDARD
END:VTIMEZONE
BEGIN:VEVENT
DTSTART;TZID=America/Chicago:20250609T083000
DTEND;TZID=America/Chicago:20250609T170000
DTSTAMP:20260421T064946
CREATED:20250410T121445Z
LAST-MODIFIED:20250410T121445Z
UID:10000042-1749457800-1749488400@www.faribaultgolf.com
SUMMARY:Women's Southern Minny Tournament
DESCRIPTION:8:30 am shotgun start
URL:https://www.faribaultgolf.com/event/womens-southern-minny-tournament/
END:VEVENT
BEGIN:VEVENT
DTSTART;TZID=America/Chicago:20250613T130000
DTEND;TZID=America/Chicago:20250613T170000
DTSTAMP:20260421T064946
CREATED:20250410T121513Z
LAST-MODIFIED:20250410T121513Z
UID:10000043-1749819600-1749834000@www.faribaultgolf.com
SUMMARY:Faribault Hockey Tournament
DESCRIPTION:1pm Shotgun Start
URL:https://www.faribaultgolf.com/event/faribault-hockey-tournament/
END:VEVENT
BEGIN:VEVENT
DTSTART;TZID=America/Chicago:20250614T080000
DTEND;TZID=America/Chicago:20250614T170000
DTSTAMP:20260421T064946
CREATED:20250410T121538Z
LAST-MODIFIED:20250410T121538Z
UID:10000044-1749888000-1749920400@www.faribaultgolf.com
SUMMARY:Robi Memorial Tournament
DESCRIPTION:
URL:https://www.faribaultgolf.com/event/robi-memorial-tournament/
END:VEVENT
BEGIN:VEVENT
DTSTART;TZID=America/Chicago:20250621T080000
DTEND;TZID=America/Chicago:20250621T170000
DTSTAMP:20260421T064946
CREATED:20250410T121558Z
LAST-MODIFIED:20250410T121558Z
UID:10000045-1750492800-1750525200@www.faribaultgolf.com
SUMMARY:LaCanne Tournament
DESCRIPTION:
URL:https://www.faribaultgolf.com/event/lacanne-tournament/
END:VEVENT
BEGIN:VEVENT
DTSTART;VALUE=DATE:20250627
DTEND;VALUE=DATE:20250629
DTSTAMP:20260421T064946
CREATED:20250410T121620Z
LAST-MODIFIED:20250410T121620Z
UID:10000046-1750982400-1751155199@www.faribaultgolf.com
SUMMARY:Pete Boerboon Invitational
DESCRIPTION:
URL:https://www.faribaultgolf.com/event/pete-boerboon-invitational-2/
END:VEVENT
END:VCALENDAR